BEGIN:VCALENDAR
VERSION:2.0
PRODID:icalendar-ruby
CALSCALE:GREGORIAN
METHOD:PUBLISH
BEGIN:VEVENT
DTSTAMP:20260423T122408Z
UID:14-431607@libertybaptistsnowhill.com
DTSTART:20260426T234500Z
DTEND:20260427T000000Z
CLASS:PUBLIC
CREATED:20260408T102241
DESCRIPTION:There will be a short 20-minute meeting following the evening s
 ervice for all VBS workers in the Sanctuary.
LAST-MODIFIED:20260408T102241
LOCATION:705 SE Second Street Snow Hill\, NC 28580
SUMMARY:VBS Meeting
URL;VALUE=URI:https://libertybaptistsnowhill.com/events/vbs-meeting/2026-04
 -26
ATTACH;FILENAME=VBS-Meeting-2026.jpg;FMTTYPE=image/jpeg:https://dq5pwpg1q8r
 u0.cloudfront.net/2026/04/08/14/22/41/8b8972c9-e8e2-4978-adba-7d5b7ffd2325
 /VBS-Meeting-2026.jpg
END:VEVENT
END:VCALENDAR
